BEGIN:VCALENDAR
VERSION:2.0
PRODID:-//John Guidroz Music - ECPv6.6.4.2//NONSGML v1.0//EN
CALSCALE:GREGORIAN
METHOD:PUBLISH
X-ORIGINAL-URL:https://johnguidroz.com
X-WR-CALDESC:Events for John Guidroz Music
REFRESH-INTERVAL;VALUE=DURATION:PT1H
X-Robots-Tag:noindex
X-PUBLISHED-TTL:PT1H
BEGIN:VTIMEZONE
TZID:America/Chicago
BEGIN:DAYLIGHT
TZOFFSETFROM:-0600
TZOFFSETTO:-0500
TZNAME:CDT
DTSTART:20240310T080000
END:DAYLIGHT
BEGIN:STANDARD
TZOFFSETFROM:-0500
TZOFFSETTO:-0600
TZNAME:CST
DTSTART:20241103T070000
END:STANDARD
END:VTIMEZONE
BEGIN:VEVENT
DTSTART;TZID=America/Chicago:20240802T180000
DTEND;TZID=America/Chicago:20240802T210000
DTSTAMP:20260424T031723
CREATED:20240708T170944Z
LAST-MODIFIED:20240712T143726Z
UID:10000021-1722621600-1722632400@johnguidroz.com
SUMMARY:Stadium Sports Grill
DESCRIPTION:
URL:https://johnguidroz.com/event/stadium-sports-grill/
LOCATION:The Stadium\, 217 N Washington Street\, DeRidder\, LA\, 70634\, United States
CATEGORIES:Shows
ATTACH;FMTTYPE=image/jpeg:https://johnguidroz.com/wp-content/uploads/2024/03/StadiumSportsGrill.jpg
GEO:30.8484574779;-93.2862569117
X-APPLE-STRUCTURED-LOCATION;VALUE=URI;X-ADDRESS=The Stadium 217 N Washington Street DeRidder LA 70634 United States;X-APPLE-RADIUS=500;X-TITLE=217 N Washington Street:geo:-93.2862569117,30.8484574779
END:VEVENT
END:VCALENDAR