BEGIN:VCALENDAR
VERSION:2.0
PRODID:-//John Guidroz Music - ECPv6.6.4.2//NONSGML v1.0//EN
CALSCALE:GREGORIAN
METHOD:PUBLISH
X-WR-CALNAME:John Guidroz Music
X-ORIGINAL-URL:https://johnguidroz.com
X-WR-CALDESC:Events for John Guidroz Music
REFRESH-INTERVAL;VALUE=DURATION:PT1H
X-Robots-Tag:noindex
X-PUBLISHED-TTL:PT1H
BEGIN:VTIMEZONE
TZID:America/Chicago
BEGIN:DAYLIGHT
TZOFFSETFROM:-0600
TZOFFSETTO:-0500
TZNAME:CDT
DTSTART:20240310T080000
END:DAYLIGHT
BEGIN:STANDARD
TZOFFSETFROM:-0500
TZOFFSETTO:-0600
TZNAME:CST
DTSTART:20241103T070000
END:STANDARD
BEGIN:DAYLIGHT
TZOFFSETFROM:-0600
TZOFFSETTO:-0500
TZNAME:CDT
DTSTART:20250309T080000
END:DAYLIGHT
BEGIN:STANDARD
TZOFFSETFROM:-0500
TZOFFSETTO:-0600
TZNAME:CST
DTSTART:20251102T070000
END:STANDARD
END:VTIMEZONE
BEGIN:VEVENT
DTSTART;TZID=America/Chicago:20250518T140000
DTEND;TZID=America/Chicago:20250518T170000
DTSTAMP:20260420T040508
CREATED:20250513T163058Z
LAST-MODIFIED:20250513T163058Z
UID:10000045-1747576800-1747587600@johnguidroz.com
SUMMARY:Rikenjaks - Lumberton
DESCRIPTION:
URL:https://johnguidroz.com/event/rikenjaks-lumberton-2/
LOCATION:Rikenjaks – Lumberton\, 358 North Lhs Drive\, Lumberton\, TX\, 77657\, United States
CATEGORIES:Shows
ATTACH;FMTTYPE=image/jpeg:https://johnguidroz.com/wp-content/uploads/2024/05/maxresdefault.jpg
GEO:30.2691775;-94.2243899
X-APPLE-STRUCTURED-LOCATION;VALUE=URI;X-ADDRESS=Rikenjaks – Lumberton 358 North Lhs Drive Lumberton TX 77657 United States;X-APPLE-RADIUS=500;X-TITLE=358 North Lhs Drive:geo:-94.2243899,30.2691775
END:VEVENT
BEGIN:VEVENT
DTSTART;TZID=America/Chicago:20240623T140000
DTEND;TZID=America/Chicago:20240623T170000
DTSTAMP:20260420T040508
CREATED:20240531T155522Z
LAST-MODIFIED:20240531T155522Z
UID:10000017-1719151200-1719162000@johnguidroz.com
SUMMARY:Rikenjaks - Lumberton
DESCRIPTION:
URL:https://johnguidroz.com/event/rikenjaks-lumberton/
LOCATION:Rikenjaks – Lumberton\, 358 North Lhs Drive\, Lumberton\, TX\, 77657\, United States
CATEGORIES:Shows
ATTACH;FMTTYPE=image/jpeg:https://johnguidroz.com/wp-content/uploads/2024/05/maxresdefault.jpg
GEO:30.2691775;-94.2243899
X-APPLE-STRUCTURED-LOCATION;VALUE=URI;X-ADDRESS=Rikenjaks – Lumberton 358 North Lhs Drive Lumberton TX 77657 United States;X-APPLE-RADIUS=500;X-TITLE=358 North Lhs Drive:geo:-94.2243899,30.2691775
END:VEVENT
END:VCALENDAR