BEGIN:VCALENDAR
VERSION:2.0
PRODID:-//John Guidroz Music - ECPv6.6.4.2//NONSGML v1.0//EN
CALSCALE:GREGORIAN
METHOD:PUBLISH
X-WR-CALNAME:John Guidroz Music
X-ORIGINAL-URL:https://johnguidroz.com
X-WR-CALDESC:Events for John Guidroz Music
REFRESH-INTERVAL;VALUE=DURATION:PT1H
X-Robots-Tag:noindex
X-PUBLISHED-TTL:PT1H
BEGIN:VTIMEZONE
TZID:America/Chicago
BEGIN:DAYLIGHT
TZOFFSETFROM:-0600
TZOFFSETTO:-0500
TZNAME:CDT
DTSTART:20240310T080000
END:DAYLIGHT
BEGIN:STANDARD
TZOFFSETFROM:-0500
TZOFFSETTO:-0600
TZNAME:CST
DTSTART:20241103T070000
END:STANDARD
END:VTIMEZONE
BEGIN:VEVENT
DTSTART;TZID=America/Chicago:20241130T170000
DTEND;TZID=America/Chicago:20241130T193000
DTSTAMP:20260424T044336
CREATED:20240918T191051Z
LAST-MODIFIED:20240918T191051Z
UID:10000042-1732986000-1732995000@johnguidroz.com
SUMMARY:Free State Cellars
DESCRIPTION:
URL:https://johnguidroz.com/event/free-state-cellars-4/
LOCATION:Free State Cellars\, 4702 Tejas Pkwy\, Orange\, TX\, 77634\, United States
CATEGORIES:Shows
ATTACH;FMTTYPE=image/jpeg:https://johnguidroz.com/wp-content/uploads/2024/03/FreeStateCellars.jpg
GEO:30.1248137595;-93.773585973
X-APPLE-STRUCTURED-LOCATION;VALUE=URI;X-ADDRESS=Free State Cellars 4702 Tejas Pkwy Orange TX 77634 United States;X-APPLE-RADIUS=500;X-TITLE=4702 Tejas Pkwy:geo:-93.773585973,30.1248137595
END:VEVENT
BEGIN:VEVENT
DTSTART;TZID=America/Chicago:20240824T170000
DTEND;TZID=America/Chicago:20240824T193000
DTSTAMP:20260424T044336
CREATED:20240708T171328Z
LAST-MODIFIED:20240708T171328Z
UID:10000024-1724518800-1724527800@johnguidroz.com
SUMMARY:Free State Cellars
DESCRIPTION:
URL:https://johnguidroz.com/event/free-state-cellars-3/
LOCATION:Free State Cellars\, 4702 Tejas Pkwy\, Orange\, TX\, 77634\, United States
CATEGORIES:Shows
ATTACH;FMTTYPE=image/jpeg:https://johnguidroz.com/wp-content/uploads/2024/03/FreeStateCellars.jpg
GEO:30.1248137595;-93.773585973
X-APPLE-STRUCTURED-LOCATION;VALUE=URI;X-ADDRESS=Free State Cellars 4702 Tejas Pkwy Orange TX 77634 United States;X-APPLE-RADIUS=500;X-TITLE=4702 Tejas Pkwy:geo:-93.773585973,30.1248137595
END:VEVENT
BEGIN:VEVENT
DTSTART;TZID=America/Chicago:20240615T170000
DTEND;TZID=America/Chicago:20240615T193000
DTSTAMP:20260424T044336
CREATED:20240531T154926Z
LAST-MODIFIED:20240531T154926Z
UID:10000016-1718470800-1718479800@johnguidroz.com
SUMMARY:Free State Cellars
DESCRIPTION:
URL:https://johnguidroz.com/event/free-state-cellars-2/
LOCATION:Free State Cellars\, 4702 Tejas Pkwy\, Orange\, TX\, 77634\, United States
CATEGORIES:Shows
ATTACH;FMTTYPE=image/jpeg:https://johnguidroz.com/wp-content/uploads/2024/03/FreeStateCellars.jpg
GEO:30.1248137595;-93.773585973
X-APPLE-STRUCTURED-LOCATION;VALUE=URI;X-ADDRESS=Free State Cellars 4702 Tejas Pkwy Orange TX 77634 United States;X-APPLE-RADIUS=500;X-TITLE=4702 Tejas Pkwy:geo:-93.773585973,30.1248137595
END:VEVENT
BEGIN:VEVENT
DTSTART;TZID=America/Chicago:20240323T170000
DTEND;TZID=America/Chicago:20240323T190000
DTSTAMP:20260424T044336
CREATED:20240306T212712Z
LAST-MODIFIED:20240306T212712Z
UID:10000005-1711213200-1711220400@johnguidroz.com
SUMMARY:Free State Cellars
DESCRIPTION:
URL:https://johnguidroz.com/event/free-state-cellars/
LOCATION:Free State Cellars\, 4702 Tejas Pkwy\, Orange\, TX\, 77634\, United States
CATEGORIES:Shows
ATTACH;FMTTYPE=image/jpeg:https://johnguidroz.com/wp-content/uploads/2024/03/FreeStateCellars.jpg
GEO:30.1248137595;-93.773585973
X-APPLE-STRUCTURED-LOCATION;VALUE=URI;X-ADDRESS=Free State Cellars 4702 Tejas Pkwy Orange TX 77634 United States;X-APPLE-RADIUS=500;X-TITLE=4702 Tejas Pkwy:geo:-93.773585973,30.1248137595
END:VEVENT
END:VCALENDAR